BEGIN:VCALENDAR
VERSION:2.0
PRODID:-//COV Solideogloria - ECPv6.15.20//NONSGML v1.0//EN
CALSCALE:GREGORIAN
METHOD:PUBLISH
X-WR-CALNAME:COV Solideogloria
X-ORIGINAL-URL:https://www.cov-solideogloria.nl
X-WR-CALDESC:Evenementen voor COV Solideogloria
REFRESH-INTERVAL;VALUE=DURATION:PT1H
X-Robots-Tag:noindex
X-PUBLISHED-TTL:PT1H
BEGIN:VTIMEZONE
TZID:Europe/Paris
BEGIN:DAYLIGHT
TZOFFSETFROM:+0100
TZOFFSETTO:+0200
TZNAME:CEST
DTSTART:20250330T010000
END:DAYLIGHT
BEGIN:STANDARD
TZOFFSETFROM:+0200
TZOFFSETTO:+0100
TZNAME:CET
DTSTART:20251026T010000
END:STANDARD
BEGIN:DAYLIGHT
TZOFFSETFROM:+0100
TZOFFSETTO:+0200
TZNAME:CEST
DTSTART:20260329T010000
END:DAYLIGHT
BEGIN:STANDARD
TZOFFSETFROM:+0200
TZOFFSETTO:+0100
TZNAME:CET
DTSTART:20261025T010000
END:STANDARD
BEGIN:DAYLIGHT
TZOFFSETFROM:+0100
TZOFFSETTO:+0200
TZNAME:CEST
DTSTART:20270328T010000
END:DAYLIGHT
BEGIN:STANDARD
TZOFFSETFROM:+0200
TZOFFSETTO:+0100
TZNAME:CET
DTSTART:20271031T010000
END:STANDARD
END:VTIMEZONE
BEGIN:VEVENT
DTSTART;TZID=Europe/Paris:20261031T100000
DTEND;TZID=Europe/Paris:20261031T150000
DTSTAMP:20260421T121821
CREATED:20260327T150127Z
LAST-MODIFIED:20260327T150225Z
UID:15505-1793440800-1793458800@www.cov-solideogloria.nl
SUMMARY:Oefendag Verdi - Sliedrecht
DESCRIPTION:
URL:https://www.cov-solideogloria.nl/event/oefendag-verdi/
LOCATION:Protestantse gemeente Sliedrecht\, Middeldiepstraat 6\, Sliedrecht\, Sliedrecht
CATEGORIES:Meezingen
ORGANIZER;CN="COV Soli Deo Gloria":MAILTO:info@cov-solideogloria.nl
END:VEVENT
END:VCALENDAR